BEGIN:VCALENDAR
PRODID:-//eluceo/ical//2.0/EN
VERSION:2.0
CALSCALE:GREGORIAN
BEGIN:VEVENT
UID:c071cd0858438a3ba4d0da1efd3a805e
DTSTAMP:20260425T140113Z
SUMMARY:6:30PM River Garden Admissions Committee Meeting
DESCRIPTION:Jewish Federation & Foundation of Northeast Florida\nCommunity 
 Calendar\nhttps://jewishjacksonville.org/jewish-federation-of-jacksonville
 -calendar/630pm-river-garden-admissions-committee-meeting7\n\nRiver Garden
  Admissions Committee Meeting. 6:30 p.m. at River Garden Senior Services.
DTSTART;TZID=America/New_York:20160425T183000
DTEND;TZID=America/New_York:20160425T193000
END:VEVENT
END:VCALENDAR
