BEGIN:VCALENDAR
PRODID:-//eluceo/ical//2.0/EN
VERSION:2.0
CALSCALE:GREGORIAN
BEGIN:VEVENT
UID:101816450725421bc4257a321db427d0
DTSTAMP:20260420T115718Z
SUMMARY:6:30PM JFCS March Board of Directors Meeting
DESCRIPTION:Jewish Federation & Foundation of Northeast Florida\nCommunity 
 Calendar\nhttps://jewishjacksonville.org/jewish-federation-of-jacksonville
 -calendar/630pm-jfcs-march-board-of-directors-meeting\n\nHybrid Zoom/In-pe
 rson Board of Directors Meeting in the Chartrand Tolerance Education Cente
 r at The LJD Jewish Family & Community Services 8540 Baycenter Road locati
 on.
DTSTART;TZID=America/New_York:20230301T183000
DTEND;TZID=America/New_York:20230301T200000
END:VEVENT
END:VCALENDAR
