BEGIN:VCALENDAR
PRODID:-//eluceo/ical//2.0/EN
VERSION:2.0
CALSCALE:GREGORIAN
BEGIN:VEVENT
UID:b6cb10b5aea8bf82c90fa233860ada47
DTSTAMP:20260424T150154Z
SUMMARY:6:30PM JFCS February Board of Directors Meeting
DESCRIPTION:Jewish Federation & Foundation of Northeast Florida\nCommunity 
 Calendar\nhttps://jewishjacksonville.org/jewish-federation-of-jacksonville
 -calendar/630pm-jfcs-february-board-of-directors-meeting\n\nHybrid Zoom/In
 -person Board of Directors Meeting in the Chartrand Tolerance Education Ce
 nter at The LJD Jewish Family & Community Services 8540 Baycenter Road loc
 ation.
DTSTART;TZID=America/New_York:20230208T183000
DTEND;TZID=America/New_York:20230208T200000
END:VEVENT
END:VCALENDAR
