BEGIN:VCALENDAR
PRODID:-//eluceo/ical//2.0/EN
VERSION:2.0
CALSCALE:GREGORIAN
BEGIN:VEVENT
UID:1b537a39c7b9cc959c30654e60882ec2
DTSTAMP:20260423T192343Z
SUMMARY:630PM JFCS ANNUAL MEN'S EVENT
DESCRIPTION:Jewish Federation & Foundation of Northeast Florida\nCommunity 
 Calendar\nhttps://jewishjacksonville.org/jewish-federation-of-jacksonville
 -calendar/630pm-jfcs-annual-mens-event\n\nJFCS Annual Men's Event to be he
 ld at Deerwood Country Club.
DTSTART;TZID=America/New_York:20160204T183000
DTEND;TZID=America/New_York:20160204T210000
END:VEVENT
END:VCALENDAR
