BEGIN:VCALENDAR
PRODID:-//eluceo/ical//2.0/EN
VERSION:2.0
CALSCALE:GREGORIAN
BEGIN:VEVENT
UID:942dedea6346b38e4903302fb8832f9f
DTSTAMP:20260420T232113Z
SUMMARY:6:30PM JCF Board of Trustees Meeting​​
DESCRIPTION:Jewish Federation & Foundation of Northeast Florida\nCommunity 
 Calendar\nhttps://jewishjacksonville.org/jewish-federation-of-jacksonville
 -calendar/630pm-jcf-board-of-trustees-meeting-January182017\n\nJCF Board 
 of Trustees Meeting\, 6:30 p.m. Meeting will be held at the JCF offices 
 at the Gottlieb Building\, 2nd Floor. Park in Guest Parking. 
DTSTART;TZID=America/New_York:20170118T183000
DTEND;TZID=America/New_York:20170118T200000
END:VEVENT
END:VCALENDAR
