BEGIN:VCALENDAR
PRODID:-//eluceo/ical//2.0/EN
VERSION:2.0
CALSCALE:GREGORIAN
BEGIN:VEVENT
UID:f66abbd2ec650de49efb13127c6f94ee
DTSTAMP:20260424T150122Z
SUMMARY:6PM Foundation Board Meeting
DESCRIPTION:Jewish Federation & Foundation of Northeast Florida\nCommunity 
 Calendar\nhttps://jewishjacksonville.org/jewish-federation-of-jacksonville
 -calendar/630pm-foundation-board-meeting-August\n\nJewish Community Founda
 tion of NE Florida Board of Directors Meeting. 6:30 p.m. at the Foundation
  offices.
DTSTART;TZID=America/New_York:20150826T180000
DTEND;TZID=America/New_York:20150826T200000
END:VEVENT
END:VCALENDAR
