BEGIN:VCALENDAR
PRODID:-//eluceo/ical//2.0/EN
VERSION:2.0
CALSCALE:GREGORIAN
BEGIN:VEVENT
UID:09a3f893bcc73a25089cc6cc83ae477f
DTSTAMP:20260422T085831Z
SUMMARY:6:30pm Congregation Ahavath Chesed 140th Anniversary Gala.a
DESCRIPTION:Jewish Federation & Foundation of Northeast Florida\nCommunity 
 Calendar\nhttps://jewishjacksonville.org/jewish-federation-of-jacksonville
 -calendar/630pm-congregation-ahavath-chesed-140th-anniversary-galaa\n\nCon
 gregation Ahavath Chesed Celebrates 140th Anniversary
DTSTART;TZID=America/New_York:20230520T183000
DTEND;TZID=America/New_York:20230520T213000
END:VEVENT
END:VCALENDAR
