BEGIN:VCALENDAR
PRODID:-//eluceo/ical//2.0/EN
VERSION:2.0
CALSCALE:GREGORIAN
BEGIN:VEVENT
UID:189edc2d11ec85892291c5e66bfc4959
DTSTAMP:20260420T111111Z
SUMMARY:6:30 PM Torah Academy Board Meeting
DESCRIPTION:Jewish Federation & Foundation of Northeast Florida\nCommunity 
 Calendar\nhttps://jewishjacksonville.org/jewish-federation-of-jacksonville
 -calendar/630-pm-torah-academy-board-meeting-4\n\nTorah Academy Board Meet
 ing
DTSTART;TZID=America/New_York:20160414T183000
DTEND;TZID=America/New_York:20160414T193000
END:VEVENT
END:VCALENDAR
