BEGIN:VCALENDAR
PRODID:-//eluceo/ical//2.0/EN
VERSION:2.0
CALSCALE:GREGORIAN
BEGIN:VEVENT
UID:558c11f57246857553421e51f6bf9ad6
DTSTAMP:20260424T093634Z
SUMMARY:6:30 PM Torah Academy Board Meeting
DESCRIPTION:Jewish Federation & Foundation of Northeast Florida\nCommunity 
 Calendar\nhttps://jewishjacksonville.org/jewish-federation-of-jacksonville
 -calendar/630-pm-torah-academy-board-meeting-2\n\nTorah Academy Board Meet
 ing
DTSTART;TZID=America/New_York:20151119T183000
DTEND;TZID=America/New_York:20151119T193000
END:VEVENT
END:VCALENDAR
