BEGIN:VCALENDAR
PRODID:-//eluceo/ical//2.0/EN
VERSION:2.0
CALSCALE:GREGORIAN
BEGIN:VEVENT
UID:36df425c85859774e84be532de339679
DTSTAMP:20260421T160126Z
SUMMARY:6:30 PM Torah Academy Board Meeting
DESCRIPTION:Jewish Federation & Foundation of Northeast Florida\nCommunity 
 Calendar\nhttps://jewishjacksonville.org/jewish-federation-of-jacksonville
 -calendar/630-pm-torah-academy-board-meeting\n\nTorah Academy Board Meetin
 g
DTSTART;TZID=America/New_York:20150820T183000
DTEND;TZID=America/New_York:20150820T193000
END:VEVENT
END:VCALENDAR
