BEGIN:VCALENDAR
PRODID:-//eluceo/ical//2.0/EN
VERSION:2.0
CALSCALE:GREGORIAN
BEGIN:VEVENT
UID:cc50e107eab21d2c63d8184ab95fd29e
DTSTAMP:20260423T195612Z
SUMMARY:6:30 PM Temple Board Meeting Congregation Ahavath Chesed
DESCRIPTION:Jewish Federation & Foundation of Northeast Florida\nCommunity 
 Calendar\nhttps://jewishjacksonville.org/jewish-federation-of-jacksonville
 -calendar/630-pm-temple-board-meeting-congregation-ahavath-chesed\n\nTempl
 e Board meeting.
DTSTART;TZID=America/New_York:20170117T183000
DTEND;TZID=America/New_York:20170117T200000
END:VEVENT
END:VCALENDAR
