BEGIN:VCALENDAR
PRODID:-//eluceo/ical//2.0/EN
VERSION:2.0
CALSCALE:GREGORIAN
BEGIN:VEVENT
UID:c5547e372248c6476299856e628dd0c5
DTSTAMP:20260422T003314Z
SUMMARY:6:30 PM Second Gen Searching for Identity Writing Workshop
DESCRIPTION:Jewish Federation & Foundation of Northeast Florida\nCommunity 
 Calendar\nhttps://jewishjacksonville.org/jewish-federation-of-jacksonville
 -calendar/630-pm-second-gen-searching-for-identity-writing-workshopapr2018
 pm\n\nWriting workshop for the Second Gen
DTSTART;TZID=America/New_York:20180410T183000
DTEND;TZID=America/New_York:20180410T200000
END:VEVENT
END:VCALENDAR
