BEGIN:VCALENDAR
PRODID:-//eluceo/ical//2.0/EN
VERSION:2.0
CALSCALE:GREGORIAN
BEGIN:VEVENT
UID:09c05360d91567ea17dd39c4fd8e037a
DTSTAMP:20260424T162402Z
SUMMARY:6:30 PM River Garden Admissions Committee Meeting
DESCRIPTION:Jewish Federation & Foundation of Northeast Florida\nCommunity 
 Calendar\nhttps://jewishjacksonville.org/jewish-federation-of-jacksonville
 -calendar/630-pm-river-garden-admissions-committee-meeting\n\nAdmissions C
 ommittee Meeting
DTSTART;TZID=America/New_York:20140922T183000
DTEND;TZID=America/New_York:20140922T193000
END:VEVENT
END:VCALENDAR
