BEGIN:VCALENDAR
PRODID:-//eluceo/ical//2.0/EN
VERSION:2.0
CALSCALE:GREGORIAN
BEGIN:VEVENT
UID:baaaad30a102738fe4c142b567b73e5d
DTSTAMP:20260421T043255Z
SUMMARY:6:30 PM rGEN and Anne: A History for Today
DESCRIPTION:Jewish Federation & Foundation of Northeast Florida\nCommunity 
 Calendar\nhttps://jewishjacksonville.org/jewish-federation-of-jacksonville
 -calendar/630-pm-rgen-with-anne\n\nFree\, private tour of the "Anne Frank:
  A History for Today" exhibit at Jacksonville's Museum of Science and Hist
 ory\, followed by dinner and a group discussion facilitated by 2nd Gen Sur
 vivor Molly Kushner. Hosted by Leah Palestrant and sponsored by Alan Levin
 son\, in partnership with Voices of Hope and MOSH. 
DTSTART;TZID=America/New_York:20170131T183000
DTEND;TZID=America/New_York:20170131T210000
END:VEVENT
END:VCALENDAR
