BEGIN:VCALENDAR
PRODID:-//eluceo/ical//2.0/EN
VERSION:2.0
CALSCALE:GREGORIAN
BEGIN:VEVENT
UID:75b046ac6ef6a7b2c7945f02fd7acdb2
DTSTAMP:20260422T200533Z
SUMMARY:6:30 PM JFCS September 2020 Board of Directors Meeting
DESCRIPTION:Jewish Federation & Foundation of Northeast Florida\nCommunity 
 Calendar\nhttps://jewishjacksonville.org/jewish-federation-of-jacksonville
 -calendar/630-pm-jfcs-september2020-board-of-directors-meeting\n\nJewish F
 amily & Community Services September Board of Directors Meeting
DTSTART;TZID=America/New_York:20200909T183000
DTEND;TZID=America/New_York:20200909T200000
END:VEVENT
END:VCALENDAR
