BEGIN:VCALENDAR
PRODID:-//eluceo/ical//2.0/EN
VERSION:2.0
CALSCALE:GREGORIAN
BEGIN:VEVENT
UID:6d4727433eb5d092689f4185a58ce7fc
DTSTAMP:20260421T211854Z
SUMMARY:6:30 PM JFCS September Board Meeting
DESCRIPTION:Jewish Federation & Foundation of Northeast Florida\nCommunity 
 Calendar\nhttps://jewishjacksonville.org/jewish-federation-of-jacksonville
 -calendar/630-pm-jfcs-september-board-meeting\n\nHybrid Zoom/In-person Boa
 rd of Directors Meeting in the Chartrand Tolerance Education Center at The
  LJD Jewish Family & Community Services 8540 Baycenter Road location.
DTSTART;TZID=America/New_York:20220914T183000
DTEND;TZID=America/New_York:20220914T200000
END:VEVENT
END:VCALENDAR
