BEGIN:VCALENDAR
PRODID:-//eluceo/ical//2.0/EN
VERSION:2.0
CALSCALE:GREGORIAN
BEGIN:VEVENT
UID:853c577239a6d4ba5485a4373deddea4
DTSTAMP:20260423T225005Z
SUMMARY:6:30 PM JFCS November Board of Directors Meeting
DESCRIPTION:Jewish Federation & Foundation of Northeast Florida\nCommunity 
 Calendar\nhttps://jewishjacksonville.org/jewish-federation-of-jacksonville
 -calendar/630-pm-jfcs-november-board-of-directors-meeting\n\nThe JFCS Boa
 rd of Directors meets every second Wednesday of the month at Jewish Family
  & Community Serivces headquarters\, located at 8540 Baycenter Road\, Jack
 sonville\, FL 32256.
DTSTART;TZID=America/New_York:20191113T063000
DTEND;TZID=America/New_York:20191113T083000
END:VEVENT
END:VCALENDAR
