BEGIN:VCALENDAR
PRODID:-//eluceo/ical//2.0/EN
VERSION:2.0
CALSCALE:GREGORIAN
BEGIN:VEVENT
UID:36a10f340917d0d564eb726bab65fa87
DTSTAMP:20260422T181225Z
SUMMARY:6:30 PM JFCS June Board of Directors Meeting
DESCRIPTION:Jewish Federation & Foundation of Northeast Florida\nCommunity 
 Calendar\nhttps://jewishjacksonville.org/jewish-federation-of-jacksonville
 -calendar/630-pm-jfcs-june-board-of-directors-meeting\n\nThe JFCS Board o
 f Directors meets every second Wednesday of the month at Jewish Family & C
 ommunity Serivces headquarters\, located at 8540 Baycenter Road\, Jacksonv
 ille\, FL 32256.
DTSTART;TZID=America/New_York:20200610T063000
DTEND;TZID=America/New_York:20200610T083000
END:VEVENT
END:VCALENDAR
