BEGIN:VCALENDAR
PRODID:-//eluceo/ical//2.0/EN
VERSION:2.0
CALSCALE:GREGORIAN
BEGIN:VEVENT
UID:1c828682fac6c9a3c0ae1bc5d3d05d2b
DTSTAMP:20260421T230527Z
SUMMARY:6:30 PM JFCS Board Meeting
DESCRIPTION:Jewish Federation & Foundation of Northeast Florida\nCommunity 
 Calendar\nhttps://jewishjacksonville.org/jewish-federation-of-jacksonville
 -calendar/630-pm-jfcs-board-meetingMay18\n\nJFCS May 2018 Board Meeting -
  6:30 - 8:00 PM​
DTSTART;TZID=America/New_York:20180509T183000
DTEND;TZID=America/New_York:20180509T200000
END:VEVENT
END:VCALENDAR
