BEGIN:VCALENDAR
PRODID:-//eluceo/ical//2.0/EN
VERSION:2.0
CALSCALE:GREGORIAN
BEGIN:VEVENT
UID:0cbf10ca3034441b090c4fd920972f86
DTSTAMP:20260420T224405Z
SUMMARY:6:30 P.M. JFCS BOARD MEETING
DESCRIPTION:Jewish Federation & Foundation of Northeast Florida\nCommunity 
 Calendar\nhttps://jewishjacksonville.org/jewish-federation-of-jacksonville
 -calendar/630-pm-jfcs-board-meeting-9-14\n\nThe board meeting will take pl
 ace in the Parker and Wilf Families Board Room. 
DTSTART;TZID=America/New_York:20160914T183000
DTEND;TZID=America/New_York:20160914T200000
END:VEVENT
END:VCALENDAR
