BEGIN:VCALENDAR
PRODID:-//eluceo/ical//2.0/EN
VERSION:2.0
CALSCALE:GREGORIAN
BEGIN:VEVENT
UID:22c262dbfe1df240dfb5104a9464f6c0
DTSTAMP:20260422T123822Z
SUMMARY:6:30 PM JFCS Board Meeting
DESCRIPTION:Jewish Federation & Foundation of Northeast Florida\nCommunity 
 Calendar\nhttps://jewishjacksonville.org/jewish-federation-of-jacksonville
 -calendar/630-pm-jfcs-board-meeting-5-10\n\nThe board meeting will take pl
 ace in the Parker & Wilf Families Board Room. 
DTSTART;TZID=America/New_York:20170510T183000
DTEND;TZID=America/New_York:20170510T200000
END:VEVENT
END:VCALENDAR
