BEGIN:VCALENDAR
PRODID:-//eluceo/ical//2.0/EN
VERSION:2.0
CALSCALE:GREGORIAN
BEGIN:VEVENT
UID:d075120815b157b1e6d2c1807f108de8
DTSTAMP:20260424T020621Z
SUMMARY:6:30 PM JFCS Board Meeting
DESCRIPTION:Jewish Federation & Foundation of Northeast Florida\nCommunity 
 Calendar\nhttps://jewishjacksonville.org/jewish-federation-of-jacksonville
 -calendar/630-pm-jfcs-board-meeting-3-8\n\nThe board meeting will take pla
 ce in the Parker & Wilf Families Board Room. 
DTSTART;TZID=America/New_York:20170308T183000
DTEND;TZID=America/New_York:20170308T200000
END:VEVENT
END:VCALENDAR
