BEGIN:VCALENDAR
PRODID:-//eluceo/ical//2.0/EN
VERSION:2.0
CALSCALE:GREGORIAN
BEGIN:VEVENT
UID:3bf0c7e6179c2ed9ba1303ccac3daaa4
DTSTAMP:20260425T185611Z
SUMMARY:6:30 PM JFCS Board Meeting
DESCRIPTION:Jewish Federation & Foundation of Northeast Florida\nCommunity 
 Calendar\nhttps://jewishjacksonville.org/jewish-federation-of-jacksonville
 -calendar/630-pm-jfcs-May-board-meeting\n\nJFCS May Board meeting
DTSTART;TZID=America/New_York:20220511T183000
DTEND;TZID=America/New_York:20220511T203000
END:VEVENT
END:VCALENDAR
