BEGIN:VCALENDAR
PRODID:-//eluceo/ical//2.0/EN
VERSION:2.0
CALSCALE:GREGORIAN
BEGIN:VEVENT
UID:887697c13275facdd2a230c6ce48e4f2
DTSTAMP:20260420T143933Z
SUMMARY:6:30 PM JFCS Board Meeting
DESCRIPTION:Jewish Federation & Foundation of Northeast Florida\nCommunity 
 Calendar\nhttps://jewishjacksonville.org/jewish-federation-of-jacksonville
 -calendar/630-pm-jfcs-April-board-meeting\n\nJFCS April Board meeting
DTSTART;TZID=America/New_York:20220413T183000
DTEND;TZID=America/New_York:20220413T203000
END:VEVENT
END:VCALENDAR
