BEGIN:VCALENDAR
PRODID:-//eluceo/ical//2.0/EN
VERSION:2.0
CALSCALE:GREGORIAN
BEGIN:VEVENT
UID:e8afa83ddd8a299d57f4619121431420
DTSTAMP:20260421T142351Z
SUMMARY:6:30 PM - JCA - Board Meeting Nov 2023
DESCRIPTION:Jewish Federation & Foundation of Northeast Florida\nCommunity 
 Calendar\nhttps://jewishjacksonville.org/jewish-federation-of-jacksonville
 -calendar/630-pm-jca-board-meeting-nov-2023\n\nJCA Board Meeting
DTSTART;TZID=America/New_York:20221108T183000
DTEND;TZID=America/New_York:20221108T203000
END:VEVENT
END:VCALENDAR
