BEGIN:VCALENDAR
PRODID:-//eluceo/ical//2.0/EN
VERSION:2.0
CALSCALE:GREGORIAN
BEGIN:VEVENT
UID:ec23179f945c37f6a80a2829723d789f
DTSTAMP:20260426T042330Z
SUMMARY:6:30 PM - JCA - Board Meeting Jun 2023
DESCRIPTION:Jewish Federation & Foundation of Northeast Florida\nCommunity 
 Calendar\nhttps://jewishjacksonville.org/jewish-federation-of-jacksonville
 -calendar/630-pm-jca-board-meeting-jun-2023\n\nJCA Board Meeting
DTSTART;TZID=America/New_York:20230613T183000
DTEND;TZID=America/New_York:20230613T203000
END:VEVENT
END:VCALENDAR
