BEGIN:VCALENDAR
PRODID:-//eluceo/ical//2.0/EN
VERSION:2.0
CALSCALE:GREGORIAN
BEGIN:VEVENT
UID:17b411da58a2e8c8255a3a9a5f8954a9
DTSTAMP:20260425T171712Z
SUMMARY:6:30 PM - JCA - Board Meeting Feb 2023
DESCRIPTION:Jewish Federation & Foundation of Northeast Florida\nCommunity 
 Calendar\nhttps://jewishjacksonville.org/jewish-federation-of-jacksonville
 -calendar/630-pm-jca-board-meeting-feb-2023\n\nJCA Board Meeting
DTSTART;TZID=America/New_York:20230213T183000
DTEND;TZID=America/New_York:20230213T203000
END:VEVENT
END:VCALENDAR
