BEGIN:VCALENDAR
PRODID:-//eluceo/ical//2.0/EN
VERSION:2.0
CALSCALE:GREGORIAN
BEGIN:VEVENT
UID:d05c19f0e9b69d28bc21a8596c20ec1a
DTSTAMP:20260421T094628Z
SUMMARY:6:30 PM - JCA - Board Meeting Dec 2023
DESCRIPTION:Jewish Federation & Foundation of Northeast Florida\nCommunity 
 Calendar\nhttps://jewishjacksonville.org/jewish-federation-of-jacksonville
 -calendar/630-pm-jca-board-meeting-dec-2023\n\nJCA Board Meeting
DTSTART;TZID=America/New_York:20221213T183000
DTEND;TZID=America/New_York:20221213T203000
END:VEVENT
END:VCALENDAR
