BEGIN:VCALENDAR
PRODID:-//eluceo/ical//2.0/EN
VERSION:2.0
CALSCALE:GREGORIAN
BEGIN:VEVENT
UID:5a1b4e5d87817ab170fc04d5aaf4517e
DTSTAMP:20260423T154747Z
SUMMARY:6:30 PM JCA Board Meeting
DESCRIPTION:Jewish Federation & Foundation of Northeast Florida\nCommunity 
 Calendar\nhttps://jewishjacksonville.org/jewish-federation-of-jacksonville
 -calendar/630-pm-jca-board-meeting-5-11\n\nJCA Board of Trustees meeting.
DTSTART;TZID=America/New_York:20210511T183000
DTEND;TZID=America/New_York:20210511T193000
END:VEVENT
END:VCALENDAR
