BEGIN:VCALENDAR
PRODID:-//eluceo/ical//2.0/EN
VERSION:2.0
CALSCALE:GREGORIAN
BEGIN:VEVENT
UID:fb995cb221727338eb89b69bf3a60c85
DTSTAMP:20260423T154817Z
SUMMARY:6:30 PM JCA Board Meeting
DESCRIPTION:Jewish Federation & Foundation of Northeast Florida\nCommunity 
 Calendar\nhttps://jewishjacksonville.org/jewish-federation-of-jacksonville
 -calendar/630-pm-jca-board-meeting-4-13\n\nJCA Board of Trustees meeting.
DTSTART;TZID=America/New_York:20210413T183000
DTEND;TZID=America/New_York:20210413T193000
END:VEVENT
END:VCALENDAR
