BEGIN:VCALENDAR
PRODID:-//eluceo/ical//2.0/EN
VERSION:2.0
CALSCALE:GREGORIAN
BEGIN:VEVENT
UID:6c118e27da5d1e70dc34a684caddd8cb
DTSTAMP:20260422T021512Z
SUMMARY:6:30 PM JCA Board Meeting
DESCRIPTION:Jewish Federation & Foundation of Northeast Florida\nCommunity 
 Calendar\nhttps://jewishjacksonville.org/jewish-federation-of-jacksonville
 -calendar/630-pm-jca-board-meeting-3-9\n\nJCA Board of Trustees meeting.
DTSTART;TZID=America/New_York:20210309T183000
DTEND;TZID=America/New_York:20210309T193000
END:VEVENT
END:VCALENDAR
