BEGIN:VCALENDAR
PRODID:-//eluceo/ical//2.0/EN
VERSION:2.0
CALSCALE:GREGORIAN
BEGIN:VEVENT
UID:8eebc11f58dcfb8fd160911da8284528
DTSTAMP:20260422T055121Z
SUMMARY:6:30 PM - JCA - Tu B’Shevat Celebration with My Tree in Israel
DESCRIPTION:Jewish Federation & Foundation of Northeast Florida\nCommunity 
 Calendar\nhttps://jewishjacksonville.org/jewish-federation-of-jacksonville
 -calendar/630-pm-jca--tu-bshevat-celebration-with-my-tree-in-israel\n\nTu 
 B’Shevat Celebration with My Tree in Israel\n\n \n\nLearn about the My 
 Tree in Israel organization with our Community Shlicha Tal Mola. This orga
 nization connects people from around the world to Israel through agricultu
 re. \n\n \n\nTime: 6:30 pm\n\nDate: February 9\n\nPricing: Free to the 
 community\n\n \n\nPlease click here​ to register.\n\n \n\nFor more i
 nformation\, please contact Rachel Sandler at rachel.sandler@jcajax.org or
  (904) 730-2100 ext. 271. 
DTSTART;TZID=America/New_York:20230209T183000
DTEND;TZID=America/New_York:20230209T203000
END:VEVENT
END:VCALENDAR
