BEGIN:VCALENDAR
PRODID:-//eluceo/ical//2.0/EN
VERSION:2.0
CALSCALE:GREGORIAN
BEGIN:VEVENT
UID:40126c500d77707710d061893a662d36
DTSTAMP:20260425T185541Z
SUMMARY:6:30 PM - JCA - Board Meeting May 2023
DESCRIPTION:Jewish Federation & Foundation of Northeast Florida\nCommunity 
 Calendar\nhttps://jewishjacksonville.org/jewish-federation-of-jacksonville
 -calendar/630-pm-jca--board-meeting-may-2023\n\nJCA Board Meeting
DTSTART;TZID=America/New_York:20230509T183000
DTEND;TZID=America/New_York:20230509T203000
END:VEVENT
END:VCALENDAR
