BEGIN:VCALENDAR
PRODID:-//eluceo/ical//2.0/EN
VERSION:2.0
CALSCALE:GREGORIAN
BEGIN:VEVENT
UID:85b9abe5cc89d272fd35f503068ae640
DTSTAMP:20260424T120155Z
SUMMARY:6:30 PM Jacksonville Jewish Center Tashlikh @ The Center Pond
DESCRIPTION:Jewish Federation & Foundation of Northeast Florida\nCommunity 
 Calendar\nhttps://jewishjacksonville.org/jewish-federation-of-jacksonville
 -calendar/630-pm-jacksonville-jewish-center-tashlikh-the-center-pond\n\nTa
 shlikh at The Center Pond
DTSTART;TZID=America/New_York:20210907T183000
DTEND;TZID=America/New_York:20210907T191500
END:VEVENT
END:VCALENDAR
