BEGIN:VCALENDAR
PRODID:-//eluceo/ical//2.0/EN
VERSION:2.0
CALSCALE:GREGORIAN
BEGIN:VEVENT
UID:8c42b28d2d96a27a50d62981b0e39301
DTSTAMP:20260422T092058Z
SUMMARY:6:30 PM Jacksonville Jewish Center Passover Shabbat Service (Erev D
 ay 7)
DESCRIPTION:Jewish Federation & Foundation of Northeast Florida\nCommunity 
 Calendar\nhttps://jewishjacksonville.org/jewish-federation-of-jacksonville
 -calendar/630-pm-jacksonville-jewish-center-passover-shabbat-service-erev-
 day-7\n\nPassover Shabbat Service (Erev Day 7 Passover)\n\nFriday\, April 
 2⋅6:30 – 7:30pm\n\n\n\n\n\n\n\n\n\n\nJoin with Google Meet\n\nmeet.goo
 gle.com/vce-fbwp-exn\n\n\n\n\n\n\n \n\n\n\n\n\n\n\n\n\n\nJoin by phone
 \n\n‪(US) +1 218-301-2329‬ PIN: ‪788 117 235‬#\n\n\n\n\n \n\n\n\n
 \n\n\n\nLocation:\n\n\nVirtual\n\n \n\n\n\n\n\n\n\nDescription: Click
  Here to Join\n\n\n\n\n\n\n\nOrganizer: Worship / Holidays\n\nWorship /
  Holidays\n\n\nCreator: Created by: Tracy HilbertCreated ...
DTSTART;TZID=America/New_York:20210402T183000
DTEND;TZID=America/New_York:20210402T193000
END:VEVENT
END:VCALENDAR
