BEGIN:VCALENDAR
PRODID:-//eluceo/ical//2.0/EN
VERSION:2.0
CALSCALE:GREGORIAN
BEGIN:VEVENT
UID:2e1897e534f206d31ae1df183ec0e624
DTSTAMP:20260421T212024Z
SUMMARY:6:30 PM JFCS Board Meeting
DESCRIPTION:Jewish Federation & Foundation of Northeast Florida\nCommunity 
 Calendar\nhttps://jewishjacksonville.org/jewish-federation-of-jacksonville
 -calendar/630-pm-January2021-board-meeting\n\nJewish Family & Community Se
 rvices December Board of Directors Meeting
DTSTART;TZID=America/New_York:20210113T183000
DTEND;TZID=America/New_York:20210113T200000
END:VEVENT
END:VCALENDAR
