BEGIN:VCALENDAR
PRODID:-//eluceo/ical//2.0/EN
VERSION:2.0
CALSCALE:GREGORIAN
BEGIN:VEVENT
UID:d43060aa75992cdacc2356ca08fdba71
DTSTAMP:20260424T132308Z
SUMMARY:6:30 P.M. JFCS Board Meeting
DESCRIPTION:Jewish Federation & Foundation of Northeast Florida\nCommunity 
 Calendar\nhttps://jewishjacksonville.org/jewish-federation-of-jacksonville
 -calendar/630-jfcs-board-meeting-12-21\n\nThe board meeting will take plac
 e in the Parker & Wilf Families Board Room.
DTSTART;TZID=America/New_York:20161221T183000
DTEND;TZID=America/New_York:20161221T200000
END:VEVENT
END:VCALENDAR
