BEGIN:VCALENDAR
PRODID:-//eluceo/ical//2.0/EN
VERSION:2.0
CALSCALE:GREGORIAN
BEGIN:VEVENT
UID:7ebaabcfc0a06bc5dcdd237c4870f85f
DTSTAMP:20260423T054249Z
SUMMARY:6:30PM Torah Academy Dinner
DESCRIPTION:Jewish Federation & Foundation of Northeast Florida\nCommunity 
 Calendar\nhttps://jewishjacksonville.org/jewish-federation-of-jacksonville
 -calendar/630\n\nAnnual Fundraising Dinner \n\nHonorees \n\nKim and David 
 Robbins\n\nRabbi Mayer and Ita Rabinowitz
DTSTART;TZID=America/New_York:20190529T183000
DTEND;TZID=America/New_York:20190529T203000
END:VEVENT
END:VCALENDAR
