BEGIN:VCALENDAR
PRODID:-//eluceo/ical//2.0/EN
VERSION:2.0
CALSCALE:GREGORIAN
BEGIN:VEVENT
UID:5755f7ae1cb6aadb048b3d54c852e537
DTSTAMP:20260422T110100Z
SUMMARY:6:17 PM Jacksonville Jewish Center Candle Lighting
DESCRIPTION:Jewish Federation & Foundation of Northeast Florida\nCommunity 
 Calendar\nhttps://jewishjacksonville.org/jewish-federation-of-jacksonville
 -calendar/617-pm-jacksonville-jewish-center-candle-lighting\n\nCandle Ligh
 ting time 
DTSTART;TZID=America/New_York:20211105T181700
DTEND;TZID=America/New_York:20211105T181700
END:VEVENT
END:VCALENDAR
