BEGIN:VCALENDAR
PRODID:-//eluceo/ical//2.0/EN
VERSION:2.0
CALSCALE:GREGORIAN
BEGIN:VEVENT
UID:04ec4fb3be4b0abd81ddffa1c0598c7f
DTSTAMP:20260425T171452Z
SUMMARY:6:15PM Congregation Ahavath Chesed Shabbat Shireinu
DESCRIPTION:Jewish Federation & Foundation of Northeast Florida\nCommunity 
 Calendar\nhttps://jewishjacksonville.org/jewish-federation-of-jacksonville
 -calendar/615pm-congregation-ahavath-chesed-shabbat-shireinu\n\nShabbat Sh
 ireinu\n\n5:45 PM - Tot Shabbat (In-person\, outside)\n\n6:15 PM - Communi
 ty Dinner  (In-person\, outside)\n\n7:00 PM - Service (In-person\, online
 )\n\nGREEK FOOD DINNER\n\n$5/Child\, $8/Member Adult\, $10/Non-Member\n\nR
 SVP by Tuesday\, 3/29/22 by 5 pm or with VENMO or at thetemplejax.org\n\nV
 ENMO: @thetemplejax\n\n 
DTSTART;TZID=America/New_York:20220401T181500
DTEND;TZID=America/New_York:20220401T201500
END:VEVENT
END:VCALENDAR
