BEGIN:VCALENDAR
PRODID:-//eluceo/ical//2.0/EN
VERSION:2.0
CALSCALE:GREGORIAN
BEGIN:VEVENT
UID:0eeaa94e11dd24e60cdccd54bc56aad6
DTSTAMP:20260424T190155Z
SUMMARY:6:15 PM Jacksonville Jewish Center Evening Services in person virtu
 al
DESCRIPTION:Jewish Federation & Foundation of Northeast Florida\nCommunity 
 Calendar\nhttps://jewishjacksonville.org/jewish-federation-of-jacksonville
 -calendar/615-pm-jacksonville-jewish-center-evening-services-in-person-vir
 tual\n\nJacksonville Jewish Center evening services NOT FOR HOLIDAY
DTSTART;TZID=America/New_York:20210914T181500
DTEND;TZID=America/New_York:20210914T184500
END:VEVENT
END:VCALENDAR
