BEGIN:VCALENDAR
PRODID:-//eluceo/ical//2.0/EN
VERSION:2.0
CALSCALE:GREGORIAN
BEGIN:VEVENT
UID:008e938673fd75582181a0dba8b750ab
DTSTAMP:20260422T232545Z
SUMMARY:6:15 PM Jacksonville Jewish Center Evening Services in person and v
 irtual
DESCRIPTION:Jewish Federation & Foundation of Northeast Florida\nCommunity 
 Calendar\nhttps://jewishjacksonville.org/jewish-federation-of-jacksonville
 -calendar/615-pm-jacksonville-jewish-center-evening-services-in-person-and
 -virtual\n\nJacksonville Jewish Center in person and virtual services \n\
 nhttps://www.jaxjewishcenter.org/engage/full-calendar/\n\n 
DTSTART;TZID=America/New_York:20210314T181500
DTEND;TZID=America/New_York:20210314T184500
END:VEVENT
END:VCALENDAR
