BEGIN:VCALENDAR
PRODID:-//eluceo/ical//2.0/EN
VERSION:2.0
CALSCALE:GREGORIAN
BEGIN:VEVENT
UID:36a0b9c9a0a98f67108bdc7e6c00500e
DTSTAMP:20260425T171522Z
SUMMARY:6:15 PM Congregation Ahavath Chesed Shabbat Shireinu
DESCRIPTION:Jewish Federation & Foundation of Northeast Florida\nCommunity 
 Calendar\nhttps://jewishjacksonville.org/jewish-federation-of-jacksonville
 -calendar/615-pm-congregation-ahavath-chesed-shabbat-shireinu\n\nShabbat S
 hireinu\n\n5:45 PM Tot Shabbat (In-person outside)\n\n6:15 PM Community Di
 nner (In-person outside)\n\n7:00 PM Adult Service (In-person & online)\n\n
 *Space heaters will be set up for outdoor events\n\nIndian Food Dinner\n\n
 $5 child | $8 Member Adult | $10 Non-Member\n\nVenmo: @thetemplejax or cas
 h/check at the door\n\nRSVP with Venmo or at https://bit.ly/shireinufeb
DTSTART;TZID=America/New_York:20220204T061500
DTEND;TZID=America/New_York:20220204T083000
END:VEVENT
END:VCALENDAR
