BEGIN:VCALENDAR
PRODID:-//eluceo/ical//2.0/EN
VERSION:2.0
CALSCALE:GREGORIAN
BEGIN:VEVENT
UID:4bd9bf78ee96e765a5192ac9b8066489
DTSTAMP:20260421T152855Z
SUMMARY:6:00pm WRJ Temple Sisterhood Executive Board Meeting The Temple
DESCRIPTION:Jewish Federation & Foundation of Northeast Florida\nCommunity 
 Calendar\nhttps://jewishjacksonville.org/jewish-federation-of-jacksonville
 -calendar/600pm-wrj-temple-sisterhood-executive-board\n\nTemple Sisterhood
  Executive Board Meeting.
DTSTART;TZID=America/New_York:20170105T180000
DTEND;TZID=America/New_York:20170105T190000
END:VEVENT
END:VCALENDAR
