BEGIN:VCALENDAR
PRODID:-//eluceo/ical//2.0/EN
VERSION:2.0
CALSCALE:GREGORIAN
BEGIN:VEVENT
UID:f5ba9305246200adaabc51da5c5671b0
DTSTAMP:20260422T180936Z
SUMMARY:6:00PM A Night Out With Federation
DESCRIPTION:Jewish Federation & Foundation of Northeast Florida\nCommunity 
 Calendar\nhttps://jewishjacksonville.org/jewish-federation-of-jacksonville
 -calendar/600pm-federation-community-event\n\nCommunity Event\n\nFebruary 
 6\n\n6:00 PM - 9:00 PM
DTSTART;TZID=America/New_York:20200206T180000
DTEND;TZID=America/New_York:20200206T210000
END:VEVENT
END:VCALENDAR
