BEGIN:VCALENDAR
PRODID:-//eluceo/ical//2.0/EN
VERSION:2.0
CALSCALE:GREGORIAN
BEGIN:VEVENT
UID:566502a0bd63249120a267098b4bb5af
DTSTAMP:20260420T015938Z
SUMMARY:6:00OPM Federation Executive Committee Meeting
DESCRIPTION:Jewish Federation & Foundation of Northeast Florida\nCommunity 
 Calendar\nhttps://jewishjacksonville.org/jewish-federation-of-jacksonville
 -calendar/600opm-federation-executive-committee-meeting-48495\n\n6PM Feder
 ation EC Meeting
DTSTART;TZID=America/New_York:20140123T180000
DTEND;TZID=America/New_York:20140123T190000
END:VEVENT
END:VCALENDAR
