BEGIN:VCALENDAR
PRODID:-//eluceo/ical//2.0/EN
VERSION:2.0
CALSCALE:GREGORIAN
BEGIN:VEVENT
UID:fe0f12ca2e4403699fc2665f5b5a3dcc
DTSTAMP:20260422T195605Z
SUMMARY:6:00 PM Virtual Shabbat - Kabbalat Shabbat Under Ground
DESCRIPTION:Jewish Federation & Foundation of Northeast Florida\nCommunity 
 Calendar\nhttps://jewishjacksonville.org/jewish-federation-of-jacksonville
 -calendar/600-pm-virtual-shabbat-kabbalat-shabbat-under-ground\n\nhttps://
 www.jaxjewishcenter.org/engage/full-calendar/\n\nKabbalat Shabbat in the U
 nderground\nFor those joining on Zoom\, linger for a few minutes after our
  Kabbalat Shabbat service to wish our fellow JJCers a Shabbat Shalom and a
  L’chaim
DTSTART;TZID=America/New_York:20200522T180000
DTEND;TZID=America/New_York:20200522T190000
END:VEVENT
END:VCALENDAR
