BEGIN:VCALENDAR
PRODID:-//eluceo/ical//2.0/EN
VERSION:2.0
CALSCALE:GREGORIAN
BEGIN:VEVENT
UID:4ba83b221d93722e92c392b1c5452a4c
DTSTAMP:20260421T093423Z
SUMMARY:6:00 PM JJC Virtual - Shimini Atzeret w/Kiddush Zoom
DESCRIPTION:Jewish Federation & Foundation of Northeast Florida\nCommunity 
 Calendar\nhttps://jewishjacksonville.org/jewish-federation-of-jacksonville
 -calendar/600-pm-jjc-virtual-shimini-atzeret-wkiddush-zoom\n\nVirtual - Sh
 imini Atzeret w/Kiddush Zoom\n\nhttps://www.jaxjewishcenter.org/jewish-lif
 e/holidays/hhd5781/virtualhhd/
DTSTART;TZID=America/New_York:20201009T060000
DTEND;TZID=America/New_York:20201009T070000
END:VEVENT
END:VCALENDAR
