BEGIN:VCALENDAR
PRODID:-//eluceo/ical//2.0/EN
VERSION:2.0
CALSCALE:GREGORIAN
BEGIN:VEVENT
UID:204f941aadbdb481f2c10ed51edd5875
DTSTAMP:20260425T115232Z
SUMMARY:6:00 PM JFCS' Annual Event
DESCRIPTION:Jewish Federation & Foundation of Northeast Florida\nCommunity 
 Calendar\nhttps://jewishjacksonville.org/jewish-federation-of-jacksonville
 -calendar/600-pm-jfcs-annual-event\n\nDetails coming soon
DTSTART;TZID=America/New_York:20180426T180000
DTEND;TZID=America/New_York:20180426T203000
END:VEVENT
END:VCALENDAR
