BEGIN:VCALENDAR
PRODID:-//eluceo/ical//2.0/EN
VERSION:2.0
CALSCALE:GREGORIAN
BEGIN:VEVENT
UID:9cd3e54d87930755505f1f5cc6940ccb
DTSTAMP:20260423T160638Z
SUMMARY:6:00 PM Jewish Foundation IOC Meeting with SEI
DESCRIPTION:Jewish Federation & Foundation of Northeast Florida\nCommunity 
 Calendar\nhttps://jewishjacksonville.org/jewish-federation-of-jacksonville
 -calendar/600-pm-jewish-foundation-ioc-meeting-with-sei\n\nMore details to
  come
DTSTART;TZID=America/New_York:20190924T180000
DTEND;TZID=America/New_York:20190924T200000
END:VEVENT
END:VCALENDAR
